Felt | Verdi |
AlreadyApplied | True |
Aperture | 4.0 |
ApertureValue | 4.0 |
ApproximateFocusDistance | 5.31 |
AutoLateralCA | 0 |
AutoWhiteVersion | 134348800 |
BitsPerSample | 8 |
Blacks2012 | +8 |
BlueHue | 0 |
BlueSaturation | 0 |
CameraProfile | Adobe Standard |
CFAPattern | [Red,Green][Green,Blue] |
CircleOfConfusion | 0.030 mm |
Clarity2012 | +10 |
ColorComponents | 3 |
ColorMode | RGB |
ColorNoiseReduction | 25 |
ColorNoiseReductionDetail | 50 |
ColorNoiseReductionSmoothness | 50 |
ColorSpace | Uncalibrated |
ColorTemperature | 5100 |
Contrast | Normal |
Contrast2012 | +6 |
ConvertToGrayscale | False |
CreateDate | 2014:01:04 10:18:18 |
CreatorTool | Adobe Photoshop Lightroom 4.4 (Windows) |
CropAngle | 0 |
CropBottom | 1 |
CropConstrainToWarp | 0 |
CropLeft | 0.160298 |
CropRight | 0.753961 |
CropTop | 0.148459 |
CustomRendered | Normal |
DateCreated (1) | 2014:01:04 |
DateCreated | 2014:01:04 10:18:18.004 |
DateTimeOriginal | 2014:01:04 10:18:18 |
DefringeGreenAmount | 0 |
DefringeGreenHueHi | 60 |
DefringeGreenHueLo | 40 |
DefringePurpleAmount | 0 |
DefringePurpleHueHi | 70 |
DefringePurpleHueLo | 30 |
DigitalZoomRatio | 1 |
DOF | 0.02 m (5.30 - 5.32 m) |
ExifImageHeight | 1527 |
ExifImageWidth | 1600 |
Exposure2012 | -0.56 |
ExposureCompensation | 0 |
ExposureMode | Auto |
ExposureProgram | Aperture-priority AE |
ExposureTime | 1/640 |
Flash | No Flash |
FNumber | 4.0 |
FocalLength | 500.0 mm |
FocalLength35efl | 500.0 mm (35 mm equivalent: 500.0 mm) |
FocalLengthIn35mmFormat | 500 mm |
Format | image/jpeg |
FOV | 4.1 deg |
GainControl | High gain up |
GrainAmount | 0 |
GreenHue | 0 |
GreenSaturation | 0 |
HasCrop | True |
HasSettings | True |
Highlights2012 | 0 |
HueAdjustmentAqua | 0 |
HueAdjustmentBlue | 0 |
HueAdjustmentGreen | 0 |
HueAdjustmentMagenta | 0 |
HueAdjustmentOrange | 0 |
HueAdjustmentPurple | 0 |
HueAdjustmentRed | 0 |
HueAdjustmentYellow | 0 |
HyperfocalDistance | 2080.13 m |
ICCProfileName | Adobe RGB (1998) |
ImageHeight | 1527 |
ImageNumber | 39711 |
ImageSize | 1600x1527 |
ImageWidth | 1600 |
ISO | 1600 |
Lens | 500.0 mm f/4.0 |
LensID (1) | 151 |
LensID | AF-S VR Nikkor 500mm f/4G ED |
LensInfo | 500mm f/4 |
LensManualDistortionAmount | 0 |
LensModel | 500.0 mm f/4.0 |
LensProfileEnable | 0 |
LensProfileSetup | LensDefaults |
LightSource | Unknown |
LightValue | 9.3 |
LuminanceAdjustmentAqua | 0 |
LuminanceAdjustmentBlue | 0 |
LuminanceAdjustmentGreen | 0 |
LuminanceAdjustmentMagenta | 0 |
LuminanceAdjustmentOrange | 0 |
LuminanceAdjustmentPurple | 0 |
LuminanceAdjustmentRed | 0 |
LuminanceAdjustmentYellow | 0 |
LuminanceNoiseReductionContrast | 0 |
LuminanceNoiseReductionDetail | 50 |
LuminanceSmoothing | 25 |
Make | NIKON CORPORATION |
MaxApertureValue | 4.0 |
Megapixels | 2.4 |
MeteringMode | Spot |
Model | NIKON D4 |
ModifyDate (1) | 2014:01:05 20:47:59+01:00 |
ModifyDate | 2014:01:05 20:47:59 |
Orientation | Horizontal (normal) |
ParametricDarks | 0 |
ParametricHighlights | 0 |
ParametricHighlightSplit | 75 |
ParametricLights | 0 |
ParametricMidtoneSplit | 50 |
ParametricShadows | 0 |
ParametricShadowSplit | 25 |
PerspectiveAspect | 0 |
PerspectiveHorizontal | 0 |
PerspectiveRotate | 0.0 |
PerspectiveScale | 100 |
PerspectiveUpright | 0 |
PerspectiveVertical | 0 |
PostCropVignetteAmount | 0 |
ProcessVersion | 6.7 |
ProfileDescription | Adobe RGB (1998) |
Rating | 0 |
RawFileName | _DSC9687.nef |
RedHue | 0 |
RedSaturation | 0 |
Saturation (1) | 0 |
Saturation | Normal |
SaturationAdjustmentAqua | 0 |
SaturationAdjustmentBlue | 0 |
SaturationAdjustmentGreen | 0 |
SaturationAdjustmentMagenta | 0 |
SaturationAdjustmentOrange | 0 |
SaturationAdjustmentPurple | 0 |
SaturationAdjustmentRed | 0 |
SaturationAdjustmentYellow | 0 |
ScaleFactor35efl | 1.0 |
SceneCaptureType | Landscape |
SceneType | Directly photographed |
SensingMethod | One-chip color area |
SensitivityType | Recommended Exposure Index |
SerialNumber | 2031144 |
Shadows2012 | -15 |
ShadowTint | 0 |
SharpenDetail | 65 |
SharpenEdgeMasking | 48 |
SharpenRadius | +0.6 |
Sharpness (1) | 53 |
Sharpness | Normal |
ShutterSpeed | 1/640 |
ShutterSpeedValue | 1/640 |
Software | Adobe Photoshop CC (Windows) |
SplitToningBalance | 0 |
SplitToningHighlightHue | 0 |
SplitToningHighlightSaturation | 0 |
SplitToningShadowHue | 0 |
SplitToningShadowSaturation | 0 |
SubjectDistanceRange | Unknown |
Tint | -9 |
ToneCurveName2012 | Linear |
ToneCurvePV2012 | 0, 0, 255, 255 |
ToneCurvePV2012Blue | 0, 0, 255, 255 |
ToneCurvePV2012Green | 0, 0, 255, 255 |
ToneCurvePV2012Red | 0, 0, 255, 255 |
URL_List | |
Version | 8.3 |
Vibrance | 0 |
VignetteAmount | 0 |
WhiteBalance (1) | As Shot |
WhiteBalance | Auto |
Whites2012 | 0 |